BEGIN:VCALENDAR
PRODID:-//hacksw/handcal//NONSGML v1.0//EN
VERSION:2.0
CALSCALE:GREGORIAN
METHOD:PUBLISH
X-WR-CALNAME:smashtech Barcelona
X-WR-TIMEZONE:Europe/Madrid
X-WR-CALDESC:smashtech Barcelona
BEGIN:VEVENT
DTSTART:20131205T090000Z
DTEND:20131205T180000Z
DTSTAMP:20131205T090000Z
UID:b1ba187d9b8d41809f33290834901892@betabeers.com
CREATED:20131120T123104Z
DESCRIPTION:https://betabeers.com/en/event/smashtech-barcelona-1384/
URL:https://betabeers.com/en/event/smashtech-barcelona-1384/
LAST-MODIFIED:20131120T123104Z
LOCATION:Mobile World Center, Barcelona, España
SEQUENCE:0
STATUS:CONFIRMED
SUMMARY:smashtech Barcelona
TRANSP:OPAQUE
END:VEVENT
END:VCALENDAR
