BEGIN:VCALENDAR
PRODID:-//hacksw/handcal//NONSGML v1.0//EN
VERSION:2.0
CALSCALE:GREGORIAN
METHOD:PUBLISH
X-WR-CALNAME:Investment Readiness v2.0
X-WR-TIMEZONE:Europe/Madrid
X-WR-CALDESC:Investment Readiness v2.0
BEGIN:VEVENT
DTSTART:20131209T090000Z
DTEND:20131212T110000Z
DTSTAMP:20131209T090000Z
UID:e8d02521f176d95cff8dea85b62244cf@betabeers.com
CREATED:20131119T171258Z
DESCRIPTION:https://betabeers.com/en/event/investment-readiness-v20-9-dicie
mbre-2013-1383/
URL:https://betabeers.com/en/event/investment-readiness-v20-9-diciembre-201
3-1383/
LAST-MODIFIED:20131119T171258Z
LOCATION:Calle Sant Joan de la Salle 42, Barcelona, España
SEQUENCE:0
STATUS:CONFIRMED
SUMMARY:Investment Readiness v2.0
TRANSP:OPAQUE
END:VEVENT
END:VCALENDAR
