BEGIN:VCALENDAR
PRODID:-//hacksw/handcal//NONSGML v1.0//EN
VERSION:2.0
CALSCALE:GREGORIAN
METHOD:PUBLISH
X-WR-CALNAME:Deep Tech Talks by GoHub - How satellites improve life: Spanish entrepreneurs travel to space
X-WR-TIMEZONE:Europe/Madrid
X-WR-CALDESC:Deep Tech Talks by GoHub - How satellites improve life: Spanish entrepreneurs travel to space
BEGIN:VEVENT
DTSTART:20201007T090000Z
DTEND:20201007T103000Z
DTSTAMP:20201007T090000Z
UID:56658fc87a7c7becfdc393524175e3a1@betabeers.com
CREATED:20201004T223606Z
DESCRIPTION:https://betabeers.com/en/event/deep-tech-talks-by-gohub-how-sat
ellites-improve-life-spanish-entrepreneurs-travel-to-space-1-enero-1970-138
10/
URL:https://betabeers.com/en/event/deep-tech-talks-by-gohub-how-satellites-
improve-life-spanish-entrepreneurs-travel-to-space-1-enero-1970-13810/
LAST-MODIFIED:20201004T223606Z
LOCATION:Online event, Valencia, España
SEQUENCE:0
STATUS:CONFIRMED
SUMMARY:Deep Tech Talks by GoHub - How satellites improve life: Spanish ent
repreneurs travel to space
TRANSP:OPAQUE
END:VEVENT
END:VCALENDAR
