BEGIN:VCALENDAR
PRODID:-//hacksw/handcal//NONSGML v1.0//EN
VERSION:2.0
CALSCALE:GREGORIAN
METHOD:PUBLISH
X-WR-CALNAME:API Hackday Barcelona
X-WR-TIMEZONE:Europe/Madrid
X-WR-CALDESC:API Hackday Barcelona
BEGIN:VEVENT
DTSTART:20120228T070000Z
DTEND:20120228T190000Z
DTSTAMP:20120228T070000Z
UID:d4c42f980a8ff0ba8584759123d6d2d3@betabeers.com
CREATED:20120227T185128Z
DESCRIPTION:https://betabeers.com/en/event/api-hackday-barcelona-28-febrero
-2012-138/
URL:https://betabeers.com/en/event/api-hackday-barcelona-28-febrero-2012-13
8/
LAST-MODIFIED:20120227T185128Z
LOCATION:La Salle, Carrer Ribagorça, Barcelona, España
SEQUENCE:0
STATUS:CONFIRMED
SUMMARY:API Hackday Barcelona
TRANSP:OPAQUE
END:VEVENT
END:VCALENDAR
