BEGIN:VCALENDAR
PRODID:-//hacksw/handcal//NONSGML v1.0//EN
VERSION:2.0
CALSCALE:GREGORIAN
METHOD:PUBLISH
X-WR-CALNAME:GDG Lleida - DSC Spain Podcast 1x01\, el podcast de los Developer Students Clubs de España
X-WR-TIMEZONE:Europe/Madrid
X-WR-CALDESC:GDG Lleida - DSC Spain Podcast 1x01\, el podcast de los Developer Students Clubs de España
BEGIN:VEVENT
DTSTART:20201006T180000Z
DTEND:20201006T184500Z
DTSTAMP:20201006T180000Z
UID:bb5515c7c57cbd6c5fbafd8e0d399506@betabeers.com
CREATED:20201004T223516Z
DESCRIPTION:https://betabeers.com/en/event/gdg-lleida-dsc-spain-podcast-1x0
1-el-podcast-los-developer-students-clubs-espana-1-enero-1970-13799/
URL:https://betabeers.com/en/event/gdg-lleida-dsc-spain-podcast-1x01-el-pod
cast-los-developer-students-clubs-espana-1-enero-1970-13799/
LAST-MODIFIED:20201004T223516Z
LOCATION:-, Lleida, España
SEQUENCE:0
STATUS:CONFIRMED
SUMMARY:GDG Lleida - DSC Spain Podcast 1x01\, el podcast de los Developer S
tudents Clubs de España
TRANSP:OPAQUE
END:VEVENT
END:VCALENDAR
