BEGIN:VCALENDAR
PRODID:-//hacksw/handcal//NONSGML v1.0//EN
VERSION:2.0
CALSCALE:GREGORIAN
METHOD:PUBLISH
X-WR-CALNAME:Curso Presencial de Programación para Android en Sevilla
X-WR-TIMEZONE:Europe/Madrid
X-WR-CALDESC:Curso Presencial de Programación para Android en Sevilla
BEGIN:VEVENT
DTSTART:20131108T153000Z
DTEND:20131108T163000Z
DTSTAMP:20131108T153000Z
UID:b00340c290b6ce3570e08bac79d425a5@betabeers.com
CREATED:20131114T111131Z
DESCRIPTION:https://betabeers.com/en/event/curso-presencial-programacion-an
droid-sevilla-1375/
URL:https://betabeers.com/en/event/curso-presencial-programacion-android-se
villa-1375/
LAST-MODIFIED:20131114T111131Z
LOCATION:Avenida Hytasa 12, 2ª Planta Módulo 18, Sevilla, España
SEQUENCE:0
STATUS:CONFIRMED
SUMMARY:Curso Presencial de Programación para Android en Sevilla
TRANSP:OPAQUE
END:VEVENT
END:VCALENDAR
