BEGIN:VCALENDAR
PRODID:-//hacksw/handcal//NONSGML v1.0//EN
VERSION:2.0
CALSCALE:GREGORIAN
METHOD:PUBLISH
X-WR-CALNAME:GDG Lleida - GDG Spain Podcast LIVE edition: evento de otoño de Google Hardware
X-WR-TIMEZONE:Europe/Madrid
X-WR-CALDESC:GDG Lleida - GDG Spain Podcast LIVE edition: evento de otoño de Google Hardware
BEGIN:VEVENT
DTSTART:20200930T190000Z
DTEND:20200930T200000Z
DTSTAMP:20200930T190000Z
UID:f1a68359b390be71a18b3051d518c63e@betabeers.com
CREATED:20200920T223513Z
DESCRIPTION:https://betabeers.com/en/event/gdg-lleida-gdg-spain-podcast-liv
e-edition-evento-otono-google-hardware-1-enero-1970-13737/
URL:https://betabeers.com/en/event/gdg-lleida-gdg-spain-podcast-live-editio
n-evento-otono-google-hardware-1-enero-1970-13737/
LAST-MODIFIED:20200920T223513Z
LOCATION:-, Lleida, España
SEQUENCE:0
STATUS:CONFIRMED
SUMMARY:GDG Lleida - GDG Spain Podcast LIVE edition: evento de otoño de Go
ogle Hardware
TRANSP:OPAQUE
END:VEVENT
END:VCALENDAR
