BEGIN:VCALENDAR
PRODID:-//hacksw/handcal//NONSGML v1.0//EN
VERSION:2.0
CALSCALE:GREGORIAN
METHOD:PUBLISH
X-WR-CALNAME:Cómo captar y gestionar talento para tu startup
X-WR-TIMEZONE:Europe/Madrid
X-WR-CALDESC:Cómo captar y gestionar talento para tu startup
BEGIN:VEVENT
DTSTART:20131118T090000Z
DTEND:20131118T103000Z
DTSTAMP:20131118T090000Z
UID:4487466936e77edc258a81f603e1ea2f@betabeers.com
CREATED:20131113T104847Z
DESCRIPTION:https://betabeers.com/en/event/como-captar-gestionar-talento-tu
-startup-18-noviembre-2013-1373/
URL:https://betabeers.com/en/event/como-captar-gestionar-talento-tu-startup
-18-noviembre-2013-1373/
LAST-MODIFIED:20131113T104847Z
LOCATION:Carrer Sant Joan de La Salle 42, edificio Sant Miquel Febres, aula
 MFS04, Barcelona, España
SEQUENCE:0
STATUS:CONFIRMED
SUMMARY:Cómo captar y gestionar talento para tu startup
TRANSP:OPAQUE
END:VEVENT
END:VCALENDAR
