BEGIN:VCALENDAR
PRODID:-//hacksw/handcal//NONSGML v1.0//EN
VERSION:2.0
CALSCALE:GREGORIAN
METHOD:PUBLISH
X-WR-CALNAME:GDG Lleida - Devfest Lleida 2020 with Google Developer Groups
X-WR-TIMEZONE:Europe/Madrid
X-WR-CALDESC:GDG Lleida - Devfest Lleida 2020 with Google Developer Groups
BEGIN:VEVENT
DTSTART:20201017T150000Z
DTEND:20201017T180000Z
DTSTAMP:20201017T150000Z
UID:41f6411bef0df512e3492840e43cb5cf@betabeers.com
CREATED:20200913T223510Z
DESCRIPTION:https://betabeers.com/en/event/gdg-lleida-devfest-lleida-2020-w
ith-google-developer-groups-1-enero-1970-13701/
URL:https://betabeers.com/en/event/gdg-lleida-devfest-lleida-2020-with-goog
le-developer-groups-1-enero-1970-13701/
LAST-MODIFIED:20200913T223510Z
LOCATION:-, Lleida, España
SEQUENCE:0
STATUS:CONFIRMED
SUMMARY:GDG Lleida - Devfest Lleida 2020 with Google Developer Groups
TRANSP:OPAQUE
END:VEVENT
END:VCALENDAR
