BEGIN:VCALENDAR
PRODID:-//hacksw/handcal//NONSGML v1.0//EN
VERSION:2.0
CALSCALE:GREGORIAN
METHOD:PUBLISH
X-WR-CALNAME:GDG Lleida - GDG Spain Podcast BITS: Proyecto HAPIS con Claudia Diosan\, WTM Lleida
X-WR-TIMEZONE:Europe/Madrid
X-WR-CALDESC:GDG Lleida - GDG Spain Podcast BITS: Proyecto HAPIS con Claudia Diosan\, WTM Lleida
BEGIN:VEVENT
DTSTART:20200914T183000Z
DTEND:20200914T190000Z
DTSTAMP:20200914T183000Z
UID:0658183357b4a6033c8ef5efc29299d7@betabeers.com
CREATED:20200913T223510Z
DESCRIPTION:https://betabeers.com/en/event/gdg-lleida-gdg-spain-podcast-bit
s-proyecto-hapis-claudia-diosan-wtm-lleida-1-enero-1970-13700/
URL:https://betabeers.com/en/event/gdg-lleida-gdg-spain-podcast-bits-proyec
to-hapis-claudia-diosan-wtm-lleida-1-enero-1970-13700/
LAST-MODIFIED:20200913T223510Z
LOCATION:-, Lleida, España
SEQUENCE:0
STATUS:CONFIRMED
SUMMARY:GDG Lleida - GDG Spain Podcast BITS: Proyecto HAPIS con Claudia Dio
san\, WTM Lleida
TRANSP:OPAQUE
END:VEVENT
END:VCALENDAR
