BEGIN:VCALENDAR
PRODID:-//hacksw/handcal//NONSGML v1.0//EN
VERSION:2.0
CALSCALE:GREGORIAN
METHOD:PUBLISH
X-WR-CALNAME:GDG Lleida - Liquid Galaxy project Google Summer of Code 2020 demo day 
X-WR-TIMEZONE:Europe/Madrid
X-WR-CALDESC:GDG Lleida - Liquid Galaxy project Google Summer of Code 2020 demo day 
BEGIN:VEVENT
DTSTART:20200827T144500Z
DTEND:20200827T191500Z
DTSTAMP:20200827T144500Z
UID:8b0369a4aa0364ccaba00f5746226c76@betabeers.com
CREATED:20200823T223523Z
DESCRIPTION:https://betabeers.com/en/event/gdg-lleida-liquid-galaxy-project
-google-summer-code-2020-demo-day-1-enero-1970-13627/
URL:https://betabeers.com/en/event/gdg-lleida-liquid-galaxy-project-google-
summer-code-2020-demo-day-1-enero-1970-13627/
LAST-MODIFIED:20200823T223523Z
LOCATION:Online event, Lleida, España
SEQUENCE:0
STATUS:CONFIRMED
SUMMARY:GDG Lleida - Liquid Galaxy project Google Summer of Code 2020 demo 
day 
TRANSP:OPAQUE
END:VEVENT
END:VCALENDAR
