BEGIN:VCALENDAR
PRODID:-//hacksw/handcal//NONSGML v1.0//EN
VERSION:2.0
CALSCALE:GREGORIAN
METHOD:PUBLISH
X-WR-CALNAME:GDG Lleida - Liquid Galaxy project Google Summer of Code 2020 demo day
X-WR-TIMEZONE:Europe/Madrid
X-WR-CALDESC:GDG Lleida - Liquid Galaxy project Google Summer of Code 2020 demo day
BEGIN:VEVENT
DTSTART:20200827T024500Z
DTEND:20200827T191500Z
DTSTAMP:20200827T024500Z
UID:68520e7dc66e2a69e2d55c62da629b2f@betabeers.com
CREATED:20200823T223523Z
DESCRIPTION:https://betabeers.com/en/event/gdg-lleida-liquid-galaxy-project
-google-summer-code-2020-demo-day-1-enero-1970-13626/
URL:https://betabeers.com/en/event/gdg-lleida-liquid-galaxy-project-google-
summer-code-2020-demo-day-1-enero-1970-13626/
LAST-MODIFIED:20200823T223523Z
LOCATION:-, Lleida, España
SEQUENCE:0
STATUS:CONFIRMED
SUMMARY:GDG Lleida - Liquid Galaxy project Google Summer of Code 2020 demo 
day
TRANSP:OPAQUE
END:VEVENT
END:VCALENDAR
