BEGIN:VCALENDAR
PRODID:-//hacksw/handcal//NONSGML v1.0//EN
VERSION:2.0
CALSCALE:GREGORIAN
METHOD:PUBLISH
X-WR-CALNAME:International Game Developers Associations Puerto Rico Chapter
X-WR-TIMEZONE:Europe/Madrid
X-WR-CALDESC:International Game Developers Associations Puerto Rico Chapter
BEGIN:VEVENT
DTSTART:20131117T100000Z
DTEND:20131117T160000Z
DTSTAMP:20131117T100000Z
UID:f7be96246b6dc22b9a4129174febdc6c@betabeers.com
CREATED:20131108T155434Z
DESCRIPTION:https://betabeers.com/en/event/international-game-developers-as
sociations-puerto-rico-chapter-1361/
URL:https://betabeers.com/en/event/international-game-developers-associatio
ns-puerto-rico-chapter-1361/
LAST-MODIFIED:20131108T155434Z
LOCATION:Urb. Dorado del Mar P-25, Calle Marullos, Dorado, PR, San Juan, Pu
erto Rico
SEQUENCE:0
STATUS:CONFIRMED
SUMMARY:International Game Developers Associations Puerto Rico Chapter
TRANSP:OPAQUE
END:VEVENT
END:VCALENDAR
