BEGIN:VCALENDAR
PRODID:-//hacksw/handcal//NONSGML v1.0//EN
VERSION:2.0
CALSCALE:GREGORIAN
METHOD:PUBLISH
X-WR-CALNAME:GDG Lleida - RETRANSMISIÓN COMENTADA MISIÓN HACÍA MARTE CON EL ROVER PERSEVERANCE Y INGENUITY
X-WR-TIMEZONE:Europe/Madrid
X-WR-CALDESC:GDG Lleida - RETRANSMISIÓN COMENTADA MISIÓN HACÍA MARTE CON EL ROVER PERSEVERANCE Y INGENUITY
BEGIN:VEVENT
DTSTART:20200730T120000Z
DTEND:20200730T133000Z
DTSTAMP:20200730T120000Z
UID:53eed9fb0992c98cdb85e2716e102706@betabeers.com
CREATED:20200726T223522Z
DESCRIPTION:https://betabeers.com/en/event/gdg-lleida-retransmision-comenta
da-mision-hacia-marte-con-el-rover-perseverance-y-ingenuity-1-enero-1970-13
553/
URL:https://betabeers.com/en/event/gdg-lleida-retransmision-comentada-misio
n-hacia-marte-con-el-rover-perseverance-y-ingenuity-1-enero-1970-13553/
LAST-MODIFIED:20200726T223522Z
LOCATION:Online event, Lleida, España
SEQUENCE:0
STATUS:CONFIRMED
SUMMARY:GDG Lleida - RETRANSMISIÓN COMENTADA MISIÓN HACÍA MARTE CON EL R
OVER PERSEVERANCE Y INGENUITY
TRANSP:OPAQUE
END:VEVENT
END:VCALENDAR
