BEGIN:VCALENDAR
PRODID:-//hacksw/handcal//NONSGML v1.0//EN
VERSION:2.0
CALSCALE:GREGORIAN
METHOD:PUBLISH
X-WR-CALNAME:Python & Django Workshop
X-WR-TIMEZONE:Europe/Madrid
X-WR-CALDESC:Python & Django Workshop
BEGIN:VEVENT
DTSTART:20131118T150000Z
DTEND:20131120T170000Z
DTSTAMP:20131118T150000Z
UID:730219a6a3fe478411973edc1a3ef9d8@betabeers.com
CREATED:20131106T204930Z
DESCRIPTION:https://betabeers.com/en/event/python-django-workshop-1355/
URL:https://betabeers.com/en/event/python-django-workshop-1355/
LAST-MODIFIED:20131106T204930Z
LOCATION:Universidad de Puerto Rico, Recinto de Río Piedras, San Juan, Pue
rto Rico
SEQUENCE:0
STATUS:CONFIRMED
SUMMARY:Python & Django Workshop
TRANSP:OPAQUE
END:VEVENT
END:VCALENDAR
