BEGIN:VCALENDAR
PRODID:-//hacksw/handcal//NONSGML v1.0//EN
VERSION:2.0
CALSCALE:GREGORIAN
METHOD:PUBLISH
X-WR-CALNAME:Bime Hack Day 2013
X-WR-TIMEZONE:Europe/Madrid
X-WR-CALDESC:Bime Hack Day 2013
BEGIN:VEVENT
DTSTART:20131120T090000Z
DTEND:20131121T190000Z
DTSTAMP:20131120T090000Z
UID:a70eac0ff71c7a064beee8d727f05ddd@betabeers.com
CREATED:20131106T202610Z
DESCRIPTION:https://betabeers.com/en/event/bime-hack-day-2013-1354/
URL:https://betabeers.com/en/event/bime-hack-day-2013-1354/
LAST-MODIFIED:20131106T202610Z
LOCATION:Ronda de Azkue, 1, Bilbao, España
SEQUENCE:0
STATUS:CONFIRMED
SUMMARY:Bime Hack Day 2013
TRANSP:OPAQUE
END:VEVENT
END:VCALENDAR
