BEGIN:VCALENDAR
PRODID:-//hacksw/handcal//NONSGML v1.0//EN
VERSION:2.0
CALSCALE:GREGORIAN
METHOD:PUBLISH
X-WR-CALNAME:Zaragoza Artificial Intelligence - Webinar gratuito: Descubriendo la Ley de la Gravedad a través del ML
X-WR-TIMEZONE:Europe/Madrid
X-WR-CALDESC:Zaragoza Artificial Intelligence - Webinar gratuito: Descubriendo la Ley de la Gravedad a través del ML
BEGIN:VEVENT
DTSTART:20200716T170000Z
DTEND:20200716T180000Z
DTSTAMP:20200716T170000Z
UID:81c8f204a7f5955da262280dd2463c6a@betabeers.com
CREATED:20200712T223538Z
DESCRIPTION:https://betabeers.com/en/event/zaragoza-artificial-intelligence
-webinar-gratuito-descubriendo-la-ley-la-gravedad-a-traves-del-ml-1-enero-1
970-13491/
URL:https://betabeers.com/en/event/zaragoza-artificial-intelligence-webinar
-gratuito-descubriendo-la-ley-la-gravedad-a-traves-del-ml-1-enero-1970-1349
1/
LAST-MODIFIED:20200712T223538Z
LOCATION:Online event, Zaragoza, España
SEQUENCE:0
STATUS:CONFIRMED
SUMMARY:Zaragoza Artificial Intelligence - Webinar gratuito: Descubriendo l
a Ley de la Gravedad a través del ML
TRANSP:OPAQUE
END:VEVENT
END:VCALENDAR
