BEGIN:VCALENDAR
PRODID:-//hacksw/handcal//NONSGML v1.0//EN
VERSION:2.0
CALSCALE:GREGORIAN
METHOD:PUBLISH
X-WR-CALNAME:MADRID.AI - Webinar gratuito: Descubriendo la Ley de la Gravedad a través del ML
X-WR-TIMEZONE:Europe/Madrid
X-WR-CALDESC:MADRID.AI - Webinar gratuito: Descubriendo la Ley de la Gravedad a través del ML
BEGIN:VEVENT
DTSTART:20200716T170000Z
DTEND:20200716T180000Z
DTSTAMP:20200716T170000Z
UID:75b38115192297bb11ee607d3054c216@betabeers.com
CREATED:20200712T223516Z
DESCRIPTION:https://betabeers.com/en/event/madridai-webinar-gratuito-descub
riendo-la-ley-la-gravedad-a-traves-del-ml-1-enero-1970-13487/
URL:https://betabeers.com/en/event/madridai-webinar-gratuito-descubriendo-l
a-ley-la-gravedad-a-traves-del-ml-1-enero-1970-13487/
LAST-MODIFIED:20200712T223516Z
LOCATION:Online event, Madrid, España
SEQUENCE:0
STATUS:CONFIRMED
SUMMARY:MADRID.AI - Webinar gratuito: Descubriendo la Ley de la Gravedad a 
través del ML
TRANSP:OPAQUE
END:VEVENT
END:VCALENDAR
