BEGIN:VCALENDAR
PRODID:-//hacksw/handcal//NONSGML v1.0//EN
VERSION:2.0
CALSCALE:GREGORIAN
METHOD:PUBLISH
X-WR-CALNAME:Codemotion Meetup en España - [Panel Online] Las nuevas claves de blockchain: Dapps\, DeFi\, Web 3.0...
X-WR-TIMEZONE:Europe/Madrid
X-WR-CALDESC:Codemotion Meetup en España - [Panel Online] Las nuevas claves de blockchain: Dapps\, DeFi\, Web 3.0...
BEGIN:VEVENT
DTSTART:20200716T180000Z
DTEND:20200716T190000Z
DTSTAMP:20200716T180000Z
UID:78a60b196ef950dcec189f7080689de5@betabeers.com
CREATED:20200705T223546Z
DESCRIPTION:https://betabeers.com/en/event/codemotion-meetup-espana-panel-o
nline-las-nuevas-claves-blockchain-dapps-defi-web-30-1-enero-1970-13468/
URL:https://betabeers.com/en/event/codemotion-meetup-espana-panel-online-la
s-nuevas-claves-blockchain-dapps-defi-web-30-1-enero-1970-13468/
LAST-MODIFIED:20200705T223546Z
LOCATION:Online event, Madrid, España
SEQUENCE:0
STATUS:CONFIRMED
SUMMARY:Codemotion Meetup en España - [Panel Online] Las nuevas claves de 
blockchain: Dapps\, DeFi\, Web 3.0...
TRANSP:OPAQUE
END:VEVENT
END:VCALENDAR
