BEGIN:VCALENDAR
PRODID:-//hacksw/handcal//NONSGML v1.0//EN
VERSION:2.0
CALSCALE:GREGORIAN
METHOD:PUBLISH
X-WR-CALNAME:GDG Lleida - Qué es Starlink de SpaceX y comentarios en directo lanzamiento 8 de julio
X-WR-TIMEZONE:Europe/Madrid
X-WR-CALDESC:GDG Lleida - Qué es Starlink de SpaceX y comentarios en directo lanzamiento 8 de julio
BEGIN:VEVENT
DTSTART:20200708T163000Z
DTEND:20200708T183000Z
DTSTAMP:20200708T163000Z
UID:38c62d79e28111ad94b8b5b217fd9f91@betabeers.com
CREATED:20200705T223507Z
DESCRIPTION:https://betabeers.com/en/event/gdg-lleida-que-es-starlink-space
x-comentarios-directo-lanzamiento-8-julio-1-enero-1970-13461/
URL:https://betabeers.com/en/event/gdg-lleida-que-es-starlink-spacex-coment
arios-directo-lanzamiento-8-julio-1-enero-1970-13461/
LAST-MODIFIED:20200705T223507Z
LOCATION:Online event, Lleida, España
SEQUENCE:0
STATUS:CONFIRMED
SUMMARY:GDG Lleida - Qué es Starlink de SpaceX y comentarios en directo la
nzamiento 8 de julio
TRANSP:OPAQUE
END:VEVENT
END:VCALENDAR
