BEGIN:VCALENDAR
PRODID:-//hacksw/handcal//NONSGML v1.0//EN
VERSION:2.0
CALSCALE:GREGORIAN
METHOD:PUBLISH
X-WR-CALNAME:decharlas - GDG Castellón - Jugando con agujeros negros
X-WR-TIMEZONE:Europe/Madrid
X-WR-CALDESC:decharlas - GDG Castellón - Jugando con agujeros negros
BEGIN:VEVENT
DTSTART:20200625T180000Z
DTEND:20200625T193000Z
DTSTAMP:20200625T180000Z
UID:5253e12847c88dca79cc074ee072d29a@betabeers.com
CREATED:20200621T223525Z
DESCRIPTION:https://betabeers.com/en/event/decharlas-gdg-castellon-jugando-
agujeros-negros-13401/
URL:https://betabeers.com/en/event/decharlas-gdg-castellon-jugando-agujeros
-negros-13401/
LAST-MODIFIED:20200621T223525Z
LOCATION:Online event, Castello de la Plana, España
SEQUENCE:0
STATUS:CONFIRMED
SUMMARY:decharlas - GDG Castellón - Jugando con agujeros negros
TRANSP:OPAQUE
END:VEVENT
END:VCALENDAR
