BEGIN:VCALENDAR
PRODID:-//hacksw/handcal//NONSGML v1.0//EN
VERSION:2.0
CALSCALE:GREGORIAN
METHOD:PUBLISH
X-WR-CALNAME:GDG Lleida - Visualización comunitaria online evento WWDC 2020
X-WR-TIMEZONE:Europe/Madrid
X-WR-CALDESC:GDG Lleida - Visualización comunitaria online evento WWDC 2020
BEGIN:VEVENT
DTSTART:20200622T180000Z
DTEND:20200622T200000Z
DTSTAMP:20200622T180000Z
UID:23f696904c5c948f79113b244ef2c30a@betabeers.com
CREATED:20200621T223506Z
DESCRIPTION:https://betabeers.com/en/event/gdg-lleida-visualizacion-comunit
aria-online-evento-wwdc-2020-1-enero-1970-13389/
URL:https://betabeers.com/en/event/gdg-lleida-visualizacion-comunitaria-onl
ine-evento-wwdc-2020-1-enero-1970-13389/
LAST-MODIFIED:20200621T223506Z
LOCATION:Parc Científic i Tecnològic Agroalimentari de Lleida (, Lleida, 
LÉ, Spain 25003), Lleida, España
SEQUENCE:0
STATUS:CONFIRMED
SUMMARY:GDG Lleida - Visualización comunitaria online evento WWDC 2020
TRANSP:OPAQUE
END:VEVENT
END:VCALENDAR
