BEGIN:VCALENDAR
PRODID:-//hacksw/handcal//NONSGML v1.0//EN
VERSION:2.0
CALSCALE:GREGORIAN
METHOD:PUBLISH
X-WR-CALNAME:decharlas - GDG Castellón - Programación funcional: Próximamente en un lenguaje cerca de usted
X-WR-TIMEZONE:Europe/Madrid
X-WR-CALDESC:decharlas - GDG Castellón - Programación funcional: Próximamente en un lenguaje cerca de usted
BEGIN:VEVENT
DTSTART:20200611T180000Z
DTEND:20200611T200000Z
DTSTAMP:20200611T180000Z
UID:36b11597c92cd01e44fdd03d1ce8a231@betabeers.com
CREATED:20200607T223522Z
DESCRIPTION:https://betabeers.com/en/event/decharlas-gdg-castellon-programa
cion-funcional-proximamente-un-lenguaje-cerca-usted-13325/
URL:https://betabeers.com/en/event/decharlas-gdg-castellon-programacion-fun
cional-proximamente-un-lenguaje-cerca-usted-13325/
LAST-MODIFIED:20200607T223522Z
LOCATION:Online event, Castello de la Plana, España
SEQUENCE:0
STATUS:CONFIRMED
SUMMARY:decharlas - GDG Castellón - Programación funcional: Próximamente
 en un lenguaje cerca de usted
TRANSP:OPAQUE
END:VEVENT
END:VCALENDAR
