BEGIN:VCALENDAR
PRODID:-//hacksw/handcal//NONSGML v1.0//EN
VERSION:2.0
CALSCALE:GREGORIAN
METHOD:PUBLISH
X-WR-CALNAME:Curso de Git
X-WR-TIMEZONE:Europe/Madrid
X-WR-CALDESC:Curso de Git
BEGIN:VEVENT
DTSTART:20131216T080000Z
DTEND:20131217T170000Z
DTSTAMP:20131216T080000Z
UID:a44ff7f5c9f0a10169079b6ae63988cb@betabeers.com
CREATED:20131027T114021Z
DESCRIPTION:https://betabeers.com/en/event/curso-git-1330/
URL:https://betabeers.com/en/event/curso-git-1330/
LAST-MODIFIED:20131027T114021Z
LOCATION:C/ Albasanz, Madrid, España
SEQUENCE:0
STATUS:CONFIRMED
SUMMARY:Curso de Git
TRANSP:OPAQUE
END:VEVENT
END:VCALENDAR
