BEGIN:VCALENDAR
PRODID:-//hacksw/handcal//NONSGML v1.0//EN
VERSION:2.0
CALSCALE:GREGORIAN
METHOD:PUBLISH
X-WR-CALNAME:#AcidTalks - ONLINE WEBINAR: At the Helm of Kubernetes
X-WR-TIMEZONE:Europe/Madrid
X-WR-CALDESC:#AcidTalks - ONLINE WEBINAR: At the Helm of Kubernetes
BEGIN:VEVENT
DTSTART:20200618T173000Z
DTEND:20200618T190000Z
DTSTAMP:20200618T173000Z
UID:bb77ad550acd8d2bcfb18731754aa7f9@betabeers.com
CREATED:20200531T223548Z
DESCRIPTION:https://betabeers.com/en/event/acidtalks-online-webinar-at-the-
helm-kubernetes-1-enero-1970-13289/
URL:https://betabeers.com/en/event/acidtalks-online-webinar-at-the-helm-kub
ernetes-1-enero-1970-13289/
LAST-MODIFIED:20200531T223548Z
LOCATION:Online event, Madrid, España
SEQUENCE:0
STATUS:CONFIRMED
SUMMARY:#AcidTalks - ONLINE WEBINAR: At the Helm of Kubernetes
TRANSP:OPAQUE
END:VEVENT
END:VCALENDAR
