BEGIN:VCALENDAR
PRODID:-//hacksw/handcal//NONSGML v1.0//EN
VERSION:2.0
CALSCALE:GREGORIAN
METHOD:PUBLISH
X-WR-CALNAME:GDG Lleida - Developer Student Club\,  GDG Spain Podcast S01E12\, final de temporada
X-WR-TIMEZONE:Europe/Madrid
X-WR-CALDESC:GDG Lleida - Developer Student Club\,  GDG Spain Podcast S01E12\, final de temporada
BEGIN:VEVENT
DTSTART:20200529T183000Z
DTEND:20200529T193000Z
DTSTAMP:20200529T183000Z
UID:3c292728508dfbd223988eb16d383322@betabeers.com
CREATED:20200524T223526Z
DESCRIPTION:https://betabeers.com/en/event/gdg-lleida-developer-student-clu
b-gdg-spain-podcast-s01e12-final-temporada-1-enero-1970-13240/
URL:https://betabeers.com/en/event/gdg-lleida-developer-student-club-gdg-sp
ain-podcast-s01e12-final-temporada-1-enero-1970-13240/
LAST-MODIFIED:20200524T223526Z
LOCATION:Online event, Lleida, España
SEQUENCE:0
STATUS:CONFIRMED
SUMMARY:GDG Lleida - Developer Student Club\,  GDG Spain Podcast S01E12\, f
inal de temporada
TRANSP:OPAQUE
END:VEVENT
END:VCALENDAR
