BEGIN:VCALENDAR
PRODID:-//hacksw/handcal//NONSGML v1.0//EN
VERSION:2.0
CALSCALE:GREGORIAN
METHOD:PUBLISH
X-WR-CALNAME:API school en Tetuan Valley
X-WR-TIMEZONE:Europe/Madrid
X-WR-CALDESC:API school en Tetuan Valley
BEGIN:VEVENT
DTSTART:20131022T173000Z
DTEND:20131112T190000Z
DTSTAMP:20131022T173000Z
UID:fbe61598950fe0a8277b80982070ae2b@betabeers.com
CREATED:20131020T115350Z
DESCRIPTION:https://betabeers.com/en/event/api-school-tetuan-valley-22-octu
bre-2013-1322/
URL:https://betabeers.com/en/event/api-school-tetuan-valley-22-octubre-2013
-1322/
LAST-MODIFIED:20131020T115350Z
LOCATION:Tetuan Valley. c/ Almagro nº 38, Madrid, España
SEQUENCE:0
STATUS:CONFIRMED
SUMMARY:API school en Tetuan Valley
TRANSP:OPAQUE
END:VEVENT
END:VCALENDAR
