BEGIN:VCALENDAR
PRODID:-//hacksw/handcal//NONSGML v1.0//EN
VERSION:2.0
CALSCALE:GREGORIAN
METHOD:PUBLISH
X-WR-CALNAME:decharlas - GDG Castellón - Entendiendo cómo aprendemos como base para enseñar ciencia
X-WR-TIMEZONE:Europe/Madrid
X-WR-CALDESC:decharlas - GDG Castellón - Entendiendo cómo aprendemos como base para enseñar ciencia
BEGIN:VEVENT
DTSTART:20200528T180000Z
DTEND:20200528T193000Z
DTSTAMP:20200528T180000Z
UID:fcac1abe45f4b88a3721cf71b58ab2fb@betabeers.com
CREATED:20200517T223520Z
DESCRIPTION:https://betabeers.com/en/event/decharlas-gdg-castellon-entendie
ndo-como-aprendemos-como-base-ensenar-ciencia-13213/
URL:https://betabeers.com/en/event/decharlas-gdg-castellon-entendiendo-como
-aprendemos-como-base-ensenar-ciencia-13213/
LAST-MODIFIED:20200517T223520Z
LOCATION:Online event, Castello de la Plana, España
SEQUENCE:0
STATUS:CONFIRMED
SUMMARY:decharlas - GDG Castellón - Entendiendo cómo aprendemos como base
 para enseñar ciencia
TRANSP:OPAQUE
END:VEVENT
END:VCALENDAR
