BEGIN:VCALENDAR
PRODID:-//hacksw/handcal//NONSGML v1.0//EN
VERSION:2.0
CALSCALE:GREGORIAN
METHOD:PUBLISH
X-WR-CALNAME:GDG Lleida - IWD Dia Internacional de la Dona 2020 - Event online #IWD2020
X-WR-TIMEZONE:Europe/Madrid
X-WR-CALDESC:GDG Lleida - IWD Dia Internacional de la Dona 2020 - Event online #IWD2020
BEGIN:VEVENT
DTSTART:20200520T180000Z
DTEND:20200520T193000Z
DTSTAMP:20200520T180000Z
UID:e2899ab29333cfc89e8466af50ca1de2@betabeers.com
CREATED:20200517T223501Z
DESCRIPTION:https://betabeers.com/en/event/gdg-lleida-iwd-dia-internacional
-la-dona-2020-event-online-iwd2020-1-enero-1970-13210/
URL:https://betabeers.com/en/event/gdg-lleida-iwd-dia-internacional-la-dona
-2020-event-online-iwd2020-1-enero-1970-13210/
LAST-MODIFIED:20200517T223501Z
LOCATION:Online event, Lleida, España
SEQUENCE:0
STATUS:CONFIRMED
SUMMARY:GDG Lleida - IWD Dia Internacional de la Dona 2020 - Event online #
IWD2020
TRANSP:OPAQUE
END:VEVENT
END:VCALENDAR
