BEGIN:VCALENDAR
PRODID:-//hacksw/handcal//NONSGML v1.0//EN
VERSION:2.0
CALSCALE:GREGORIAN
METHOD:PUBLISH
X-WR-CALNAME:MongoDB Madrid MUG - MongoDB + Hadoop integration
X-WR-TIMEZONE:Europe/Madrid
X-WR-CALDESC:MongoDB Madrid MUG - MongoDB + Hadoop integration
BEGIN:VEVENT
DTSTART:20131024T173000Z
DTEND:20131024T183000Z
DTSTAMP:20131024T173000Z
UID:015becc6e353f02332ed102ff0c5c180@betabeers.com
CREATED:20131019T230004Z
DESCRIPTION:https://betabeers.com/en/event/mongodb-madrid-mug-mongodb-hadoo
p-integration-1318/
URL:https://betabeers.com/en/event/mongodb-madrid-mug-mongodb-hadoop-integr
ation-1318/
LAST-MODIFIED:20131019T230004Z
LOCATION:C/ Serrano Galvache 56, Madrid, España
SEQUENCE:0
STATUS:CONFIRMED
SUMMARY:MongoDB Madrid MUG - MongoDB + Hadoop integration
TRANSP:OPAQUE
END:VEVENT
END:VCALENDAR
