BEGIN:VCALENDAR
PRODID:-//hacksw/handcal//NONSGML v1.0//EN
VERSION:2.0
CALSCALE:GREGORIAN
METHOD:PUBLISH
X-WR-CALNAME:GDG Málaga - Community Speedrun Challenge #2 - Intro to ML: Language Processing
X-WR-TIMEZONE:Europe/Madrid
X-WR-CALDESC:GDG Málaga - Community Speedrun Challenge #2 - Intro to ML: Language Processing
BEGIN:VEVENT
DTSTART:20200511T180000Z
DTEND:20200517T180000Z
DTSTAMP:20200511T180000Z
UID:633f1a2f8d99f0d907f43eef9e157330@betabeers.com
CREATED:20200510T223435Z
DESCRIPTION:https://betabeers.com/en/event/gdg-malaga-community-speedrun-ch
allenge-2-intro-to-ml-language-processing-1-enero-1970-13165/
URL:https://betabeers.com/en/event/gdg-malaga-community-speedrun-challenge-
2-intro-to-ml-language-processing-1-enero-1970-13165/
LAST-MODIFIED:20200510T223435Z
LOCATION:Online event, Malaga, España
SEQUENCE:0
STATUS:CONFIRMED
SUMMARY:GDG Málaga - Community Speedrun Challenge #2 - Intro to ML: Langua
ge Processing
TRANSP:OPAQUE
END:VEVENT
END:VCALENDAR
