BEGIN:VCALENDAR
PRODID:-//hacksw/handcal//NONSGML v1.0//EN
VERSION:2.0
CALSCALE:GREGORIAN
METHOD:PUBLISH
X-WR-CALNAME:ATC 2013 - App Trade Centre 2013
X-WR-TIMEZONE:Europe/Madrid
X-WR-CALDESC:ATC 2013 - App Trade Centre 2013
BEGIN:VEVENT
DTSTART:20131022T230000Z
DTEND:20131023T230000Z
DTSTAMP:20131022T230000Z
UID:3f32085be82a1144b35ca5cd35ace8e1@betabeers.com
CREATED:20131017T174643Z
DESCRIPTION:https://betabeers.com/en/event/atc-2013-app-trade-centre-2013-2
3-octubre-2013-1314/
URL:https://betabeers.com/en/event/atc-2013-app-trade-centre-2013-23-octubr
e-2013-1314/
LAST-MODIFIED:20131017T174643Z
LOCATION:Calle Eugenia Viñes, 22-24, Valencia, España
SEQUENCE:0
STATUS:CONFIRMED
SUMMARY:ATC 2013 - App Trade Centre 2013
TRANSP:OPAQUE
END:VEVENT
END:VCALENDAR
