BEGIN:VCALENDAR
PRODID:-//hacksw/handcal//NONSGML v1.0//EN
VERSION:2.0
CALSCALE:GREGORIAN
METHOD:PUBLISH
X-WR-CALNAME:GDG Lleida - Webinars divulgatius:  Exposició virtual de projectes
X-WR-TIMEZONE:Europe/Madrid
X-WR-CALDESC:GDG Lleida - Webinars divulgatius:  Exposició virtual de projectes
BEGIN:VEVENT
DTSTART:20200508T090000Z
DTEND:20200508T110000Z
DTSTAMP:20200508T090000Z
UID:4db9d10704ef42d3e630b975adf6fe49@betabeers.com
CREATED:20200503T223459Z
DESCRIPTION:https://betabeers.com/en/event/gdg-lleida-webinars-divulgatius-
exposicio-virtual-projectes-1-enero-1970-13138/
URL:https://betabeers.com/en/event/gdg-lleida-webinars-divulgatius-exposici
o-virtual-projectes-1-enero-1970-13138/
LAST-MODIFIED:20200503T223459Z
LOCATION:Online event, Lleida, España
SEQUENCE:0
STATUS:CONFIRMED
SUMMARY:GDG Lleida - Webinars divulgatius:  Exposició virtual de projectes
TRANSP:OPAQUE
END:VEVENT
END:VCALENDAR
