BEGIN:VCALENDAR
PRODID:-//hacksw/handcal//NONSGML v1.0//EN
VERSION:2.0
CALSCALE:GREGORIAN
METHOD:PUBLISH
X-WR-CALNAME:XXIII jornadas del GUL
X-WR-TIMEZONE:Europe/Madrid
X-WR-CALDESC:XXIII jornadas del GUL
BEGIN:VEVENT
DTSTART:20131021T170000Z
DTEND:20131025T200000Z
DTSTAMP:20131021T170000Z
UID:48e7f0dedeb1b7031afe4745f9a115e0@betabeers.com
CREATED:20131016T135930Z
DESCRIPTION:https://betabeers.com/en/event/xxiii-jornadas-del-gul-1311/
URL:https://betabeers.com/en/event/xxiii-jornadas-del-gul-1311/
LAST-MODIFIED:20131016T135930Z
LOCATION:Avenida de la Universidad, 30, Leganes, España
SEQUENCE:0
STATUS:CONFIRMED
SUMMARY:XXIII jornadas del GUL
TRANSP:OPAQUE
END:VEVENT
END:VCALENDAR
