BEGIN:VCALENDAR
PRODID:-//hacksw/handcal//NONSGML v1.0//EN
VERSION:2.0
CALSCALE:GREGORIAN
METHOD:PUBLISH
X-WR-CALNAME:GDG Lleida - #YoMeQuedoEnCasaGDG Charlas 10:  Differentiable Computer Vision with Kornia
X-WR-TIMEZONE:Europe/Madrid
X-WR-CALDESC:GDG Lleida - #YoMeQuedoEnCasaGDG Charlas 10:  Differentiable Computer Vision with Kornia
BEGIN:VEVENT
DTSTART:20200421T170000Z
DTEND:20200421T180000Z
DTSTAMP:20200421T170000Z
UID:b61da1285279be8ee74d786811be96b5@betabeers.com
CREATED:20200419T223502Z
DESCRIPTION:https://betabeers.com/en/event/gdg-lleida-yomequedoencasagdg-ch
arlas-10-differentiable-computer-vision-with-kornia-1-enero-1970-13048/
URL:https://betabeers.com/en/event/gdg-lleida-yomequedoencasagdg-charlas-10
-differentiable-computer-vision-with-kornia-1-enero-1970-13048/
LAST-MODIFIED:20200419T223502Z
LOCATION:Online event, Lleida, España
SEQUENCE:0
STATUS:CONFIRMED
SUMMARY:GDG Lleida - #YoMeQuedoEnCasaGDG Charlas 10:  Differentiable Comput
er Vision with Kornia
TRANSP:OPAQUE
END:VEVENT
END:VCALENDAR
