BEGIN:VCALENDAR
PRODID:-//hacksw/handcal//NONSGML v1.0//EN
VERSION:2.0
CALSCALE:GREGORIAN
METHOD:PUBLISH
X-WR-CALNAME:GDG Lleida - #YoMeQuedoEnCasaGDG Charlas 9: Mi primera App Android
X-WR-TIMEZONE:Europe/Madrid
X-WR-CALDESC:GDG Lleida - #YoMeQuedoEnCasaGDG Charlas 9: Mi primera App Android
BEGIN:VEVENT
DTSTART:20200421T160000Z
DTEND:20200421T170000Z
DTSTAMP:20200421T160000Z
UID:9939c7b0b0dc849f55f27cab5b68981b@betabeers.com
CREATED:20200405T223512Z
DESCRIPTION:https://betabeers.com/en/event/gdg-lleida-yomequedoencasagdg-ch
arlas-9-mi-primera-app-android-1-enero-1970-12978/
URL:https://betabeers.com/en/event/gdg-lleida-yomequedoencasagdg-charlas-9-
mi-primera-app-android-1-enero-1970-12978/
LAST-MODIFIED:20200405T223512Z
LOCATION:Online Event, Lleida, España
SEQUENCE:0
STATUS:CONFIRMED
SUMMARY:GDG Lleida - #YoMeQuedoEnCasaGDG Charlas 9: Mi primera App Android
TRANSP:OPAQUE
END:VEVENT
END:VCALENDAR
