BEGIN:VCALENDAR
PRODID:-//hacksw/handcal//NONSGML v1.0//EN
VERSION:2.0
CALSCALE:GREGORIAN
METHOD:PUBLISH
X-WR-CALNAME:DevFest Bilbao 2013
X-WR-TIMEZONE:Europe/Madrid
X-WR-CALDESC:DevFest Bilbao 2013
BEGIN:VEVENT
DTSTART:20131031T070000Z
DTEND:20131031T190000Z
DTSTAMP:20131031T070000Z
UID:6778a7f21d8ae504ffef6983199e2d0c@betabeers.com
CREATED:20131009T215844Z
DESCRIPTION:https://betabeers.com/en/event/devfest-bilbao-2013-31-octubre-2
013-1296/
URL:https://betabeers.com/en/event/devfest-bilbao-2013-31-octubre-2013-1296
/
LAST-MODIFIED:20131009T215844Z
LOCATION:Ribera de Deusto 47, Bilbao, España
SEQUENCE:0
STATUS:CONFIRMED
SUMMARY:DevFest Bilbao 2013
TRANSP:OPAQUE
END:VEVENT
END:VCALENDAR
