BEGIN:VCALENDAR
PRODID:-//hacksw/handcal//NONSGML v1.0//EN
VERSION:2.0
CALSCALE:GREGORIAN
METHOD:PUBLISH
X-WR-CALNAME:CoderDojo Barcelona
X-WR-TIMEZONE:Europe/Madrid
X-WR-CALDESC:CoderDojo Barcelona
BEGIN:VEVENT
DTSTART:20131012T090000Z
DTEND:20131012T110000Z
DTSTAMP:20131012T090000Z
UID:89436bcb21e4a0619fc2f858217cdf35@betabeers.com
CREATED:20131009T200341Z
DESCRIPTION:https://betabeers.com/en/event/coderdojo-barcelona-12-octubre-2
013-1295/
URL:https://betabeers.com/en/event/coderdojo-barcelona-12-octubre-2013-1295
/
LAST-MODIFIED:20131009T200341Z
LOCATION:350, Carrer de Pujades, Barcelona, España
SEQUENCE:0
STATUS:CONFIRMED
SUMMARY:CoderDojo Barcelona
TRANSP:OPAQUE
END:VEVENT
END:VCALENDAR
