BEGIN:VCALENDAR
PRODID:-//hacksw/handcal//NONSGML v1.0//EN
VERSION:2.0
CALSCALE:GREGORIAN
METHOD:PUBLISH
X-WR-CALNAME:Tomelloso Tech - Presente\, pasado y futuro de Tomelloso Tech
X-WR-TIMEZONE:Europe/Madrid
X-WR-CALDESC:Tomelloso Tech - Presente\, pasado y futuro de Tomelloso Tech
BEGIN:VEVENT
DTSTART:20200229T100000Z
DTEND:20200229T120000Z
DTSTAMP:20200229T100000Z
UID:455d79fa42145a644acc2969ded54ee8@betabeers.com
CREATED:20200216T223527Z
DESCRIPTION:https://betabeers.com/en/event/tomelloso-tech-presente-pasado-f
uturo-tomelloso-tech-1-enero-1970-12715/
URL:https://betabeers.com/en/event/tomelloso-tech-presente-pasado-futuro-to
melloso-tech-1-enero-1970-12715/
LAST-MODIFIED:20200216T223527Z
LOCATION:Salón de Actos de la Casa Municipal de la Cultura (Calle Independ
encia 32, Tomelloso, AL, Spain), Tomelloso, España
SEQUENCE:0
STATUS:CONFIRMED
SUMMARY:Tomelloso Tech - Presente\, pasado y futuro de Tomelloso Tech
TRANSP:OPAQUE
END:VEVENT
END:VCALENDAR
