BEGIN:VCALENDAR
PRODID:-//hacksw/handcal//NONSGML v1.0//EN
VERSION:2.0
CALSCALE:GREGORIAN
METHOD:PUBLISH
X-WR-CALNAME:Tomelloso Tech - Encuentro de socios y simpatizantes de Marzo
X-WR-TIMEZONE:Europe/Madrid
X-WR-CALDESC:Tomelloso Tech - Encuentro de socios y simpatizantes de Marzo
BEGIN:VEVENT
DTSTART:20200301T090000Z
DTEND:20200301T130000Z
DTSTAMP:20200301T090000Z
UID:f50e79280cefa9271736806b3219aaaa@betabeers.com
CREATED:20200209T223532Z
DESCRIPTION:https://betabeers.com/en/event/tomelloso-tech-encuentro-socios-
simpatizantes-marzo-1-enero-1970-12645/
URL:https://betabeers.com/en/event/tomelloso-tech-encuentro-socios-simpatiz
antes-marzo-1-enero-1970-12645/
LAST-MODIFIED:20200209T223532Z
LOCATION:Tomelloso (, Tomelloso, Spain 13700), Tomelloso, España
SEQUENCE:0
STATUS:CONFIRMED
SUMMARY:Tomelloso Tech - Encuentro de socios y simpatizantes de Marzo
TRANSP:OPAQUE
END:VEVENT
END:VCALENDAR
