BEGIN:VCALENDAR
PRODID:-//hacksw/handcal//NONSGML v1.0//EN
VERSION:2.0
CALSCALE:GREGORIAN
METHOD:PUBLISH
X-WR-CALNAME:Charla iniciación GIT y GitHub
X-WR-TIMEZONE:Europe/Madrid
X-WR-CALDESC:Charla iniciación GIT y GitHub
BEGIN:VEVENT
DTSTART:20120222T180000Z
DTEND:20120222T193000Z
DTSTAMP:20120222T180000Z
UID:bff97b28c14c4ee944b043d60df241f3@betabeers.com
CREATED:20120220T182600Z
DESCRIPTION:https://betabeers.com/en/event/charla-iniciacion-git-github-22-
febrero-2012-126/
URL:https://betabeers.com/en/event/charla-iniciacion-git-github-22-febrero-
2012-126/
LAST-MODIFIED:20120220T182600Z
LOCATION:Calle de la Madre Elisa Oliver Molina sn (Antiguo Cuartel de Artil
lería), Murcia, España
SEQUENCE:0
STATUS:CONFIRMED
SUMMARY:Charla iniciación GIT y GitHub
TRANSP:OPAQUE
END:VEVENT
END:VCALENDAR
