BEGIN:VCALENDAR
PRODID:-//hacksw/handcal//NONSGML v1.0//EN
VERSION:2.0
CALSCALE:GREGORIAN
METHOD:PUBLISH
X-WR-CALNAME:Tomelloso Tech - Iniciación al desarrollo móvil con Xamarin
X-WR-TIMEZONE:Europe/Madrid
X-WR-CALDESC:Tomelloso Tech - Iniciación al desarrollo móvil con Xamarin
BEGIN:VEVENT
DTSTART:20200201T090000Z
DTEND:20200201T110000Z
DTSTAMP:20200201T090000Z
UID:ad14c4401b49eed865797b8105833b7c@betabeers.com
CREATED:20200119T223535Z
DESCRIPTION:https://betabeers.com/en/event/tomelloso-tech-iniciacion-al-des
arrollo-movil-xamarin-1-enero-1970-12481/
URL:https://betabeers.com/en/event/tomelloso-tech-iniciacion-al-desarrollo-
movil-xamarin-1-enero-1970-12481/
LAST-MODIFIED:20200119T223535Z
LOCATION:Centro de Barrio "San Antonio" (Calle Cabo Noval, 43, Tomelloso, S
pain 13700), Tomelloso, España
SEQUENCE:0
STATUS:CONFIRMED
SUMMARY:Tomelloso Tech - Iniciación al desarrollo móvil con Xamarin
TRANSP:OPAQUE
END:VEVENT
END:VCALENDAR
