BEGIN:VCALENDAR
PRODID:-//hacksw/handcal//NONSGML v1.0//EN
VERSION:2.0
CALSCALE:GREGORIAN
METHOD:PUBLISH
X-WR-CALNAME:theEvnt - Seminario de Ruby & Rails
X-WR-TIMEZONE:Europe/Madrid
X-WR-CALDESC:theEvnt - Seminario de Ruby & Rails
BEGIN:VEVENT
DTSTART:20120225T083000Z
DTEND:20120225T123000Z
DTSTAMP:20120225T083000Z
UID:a3a5dc70c9c313c92dc175381c413c4d@betabeers.com
CREATED:20120217T110942Z
DESCRIPTION:https://betabeers.com/en/event/theevnt-seminario-ruby-rails-25-
febrero-2012-124/
URL:https://betabeers.com/en/event/theevnt-seminario-ruby-rails-25-febrero-
2012-124/
LAST-MODIFIED:20120217T110942Z
LOCATION:Escuela Politécnica de Cáceres, Avenida de la universidad s/n, C
aceres, España
SEQUENCE:0
STATUS:CONFIRMED
SUMMARY:theEvnt - Seminario de Ruby & Rails
TRANSP:OPAQUE
END:VEVENT
END:VCALENDAR
