BEGIN:VCALENDAR
PRODID:-//hacksw/handcal//NONSGML v1.0//EN
VERSION:2.0
CALSCALE:GREGORIAN
METHOD:PUBLISH
X-WR-CALNAME:Karnataka Result
X-WR-TIMEZONE:Europe/Madrid
X-WR-CALDESC:Karnataka Result
BEGIN:VEVENT
DTSTART:20200108T230000Z
DTEND:20200108T230000Z
DTSTAMP:20200108T230000Z
UID:ba00698012e052e7cd65281eef3bd493@betabeers.com
CREATED:20200109T042444Z
DESCRIPTION:https://betabeers.com/en/event/karnataka-result-9-enero-2020-12
357/
URL:https://betabeers.com/en/event/karnataka-result-9-enero-2020-12357/
LAST-MODIFIED:20200109T042444Z
LOCATION:Chennai, Chennai, India
SEQUENCE:0
STATUS:CONFIRMED
SUMMARY:Karnataka Result
TRANSP:OPAQUE
END:VEVENT
END:VCALENDAR
