BEGIN:VCALENDAR
PRODID:-//hacksw/handcal//NONSGML v1.0//EN
VERSION:2.0
CALSCALE:GREGORIAN
METHOD:PUBLISH
X-WR-CALNAME:Hotels and Travellers
X-WR-TIMEZONE:Europe/Madrid
X-WR-CALDESC:Hotels and Travellers
BEGIN:VEVENT
DTSTART:20200108T230000Z
DTEND:20200108T230000Z
DTSTAMP:20200108T230000Z
UID:2721cddb4c5787a28ef4276806a768e5@betabeers.com
CREATED:20200109T021839Z
DESCRIPTION:https://betabeers.com/en/event/hotels-and-travellers-9-enero-20
20-12356/
URL:https://betabeers.com/en/event/hotels-and-travellers-9-enero-2020-12356
/
LAST-MODIFIED:20200109T021839Z
LOCATION:Chennai, Chennai, India
SEQUENCE:0
STATUS:CONFIRMED
SUMMARY:Hotels and Travellers
TRANSP:OPAQUE
END:VEVENT
END:VCALENDAR
