BEGIN:VCALENDAR
PRODID:-//hacksw/handcal//NONSGML v1.0//EN
VERSION:2.0
CALSCALE:GREGORIAN
METHOD:PUBLISH
X-WR-CALNAME:decharlas - GDG Castellón - 500 Años de frío, la gran aventura del Ártico
X-WR-TIMEZONE:Europe/Madrid
X-WR-CALDESC:decharlas - GDG Castellón - 500 Años de frío, la gran aventura del Ártico
BEGIN:VEVENT
DTSTART:20191203T180000Z
DTEND:20191203T190000Z
DTSTAMP:20191203T180000Z
UID:040065c52948f4234a1824ebeb62648b@betabeers.com
CREATED:20191201T223530Z
DESCRIPTION:https://betabeers.com/en/event/decharlas-gdg-castellon-500-anos
-frio-la-gran-aventura-del-artico-12182/
URL:https://betabeers.com/en/event/decharlas-gdg-castellon-500-anos-frio-la
-gran-aventura-del-artico-12182/
LAST-MODIFIED:20191201T223530Z
LOCATION:Salón de actos del Centro de Posgrado (Universitat Jaume I, Caste
lló, Spain), Castello de la Plana, España
SEQUENCE:0
STATUS:CONFIRMED
SUMMARY:decharlas - GDG Castellón - 500 Años de frío, la gran aventura d
el Ártico
TRANSP:OPAQUE
END:VEVENT
END:VCALENDAR
