BEGIN:VCALENDAR
PRODID:-//hacksw/handcal//NONSGML v1.0//EN
VERSION:2.0
CALSCALE:GREGORIAN
METHOD:PUBLISH
X-WR-CALNAME:DrupalCamp Spain 2013
X-WR-TIMEZONE:Europe/Madrid
X-WR-CALDESC:DrupalCamp Spain 2013
BEGIN:VEVENT
DTSTART:20131025T230000Z
DTEND:20131026T230000Z
DTSTAMP:20131025T230000Z
UID:a88803771bed778bc92c9418b6b9d505@betabeers.com
CREATED:20130914T111948Z
DESCRIPTION:https://betabeers.com/en/event/drupalcamp-spain-2013-1212/
URL:https://betabeers.com/en/event/drupalcamp-spain-2013-1212/
LAST-MODIFIED:20130914T111948Z
LOCATION:Complejo Cultural San Francisco, Caceres, España
SEQUENCE:0
STATUS:CONFIRMED
SUMMARY:DrupalCamp Spain 2013
TRANSP:OPAQUE
END:VEVENT
END:VCALENDAR
