BEGIN:VCALENDAR
PRODID:-//hacksw/handcal//NONSGML v1.0//EN
VERSION:2.0
CALSCALE:GREGORIAN
METHOD:PUBLISH
X-WR-CALNAME:¿Buscas Financiación? ¡Ven! 2013
X-WR-TIMEZONE:Europe/Madrid
X-WR-CALDESC:¿Buscas Financiación? ¡Ven! 2013
BEGIN:VEVENT
DTSTART:20131001T080000Z
DTEND:20131001T130000Z
DTSTAMP:20131001T080000Z
UID:ab52967f3a49cb611dfb9e21bfe858ff@betabeers.com
CREATED:20130912T100712Z
DESCRIPTION:https://betabeers.com/en/event/buscas-financiacion-ven-2013-120
6/
URL:https://betabeers.com/en/event/buscas-financiacion-ven-2013-1206/
LAST-MODIFIED:20130912T100712Z
LOCATION:Sant Joan de La Salle 42, Barcelona, España
SEQUENCE:0
STATUS:CONFIRMED
SUMMARY:¿Buscas Financiación? ¡Ven! 2013
TRANSP:OPAQUE
END:VEVENT
END:VCALENDAR
