BEGIN:VCALENDAR
PRODID:-//hacksw/handcal//NONSGML v1.0//EN
VERSION:2.0
CALSCALE:GREGORIAN
METHOD:PUBLISH
X-WR-CALNAME:CachiruloTalks: Productos móviles, con Unboring & Frogtek
X-WR-TIMEZONE:Europe/Madrid
X-WR-CALDESC:CachiruloTalks: Productos móviles, con Unboring & Frogtek
BEGIN:VEVENT
DTSTART:20130912T180000Z
DTEND:20130912T200000Z
DTSTAMP:20130912T180000Z
UID:d46aedd6a5b9e61e7bef5730240929d9@betabeers.com
CREATED:20130911T150244Z
DESCRIPTION:https://betabeers.com/en/event/cachirulotalks-productos-moviles
-unboring-frogtek-1203/
URL:https://betabeers.com/en/event/cachirulotalks-productos-moviles-unborin
g-frogtek-1203/
LAST-MODIFIED:20130911T150244Z
LOCATION:Avenida de la Autonomía nº 7, Zaragoza, España
SEQUENCE:0
STATUS:CONFIRMED
SUMMARY:CachiruloTalks: Productos móviles, con Unboring & Frogtek
TRANSP:OPAQUE
END:VEVENT
END:VCALENDAR
