BEGIN:VCALENDAR
PRODID:-//hacksw/handcal//NONSGML v1.0//EN
VERSION:2.0
CALSCALE:GREGORIAN
METHOD:PUBLISH
X-WR-CALNAME:decharlas - GDG Castellón - Inteligencia artificial y videojuegos\, una relación muy estable
X-WR-TIMEZONE:Europe/Madrid
X-WR-CALDESC:decharlas - GDG Castellón - Inteligencia artificial y videojuegos\, una relación muy estable
BEGIN:VEVENT
DTSTART:20191114T180000Z
DTEND:20191114T200000Z
DTSTAMP:20191114T180000Z
UID:c56be0c8e9f7a90cc13b19a6b420c1e6@betabeers.com
CREATED:20191018T133144Z
DESCRIPTION:https://betabeers.com/en/event/decharlas-gdg-castellon-intelige
ncia-artificial-videojuegos-una-relacion-muy-estable-11730/
URL:https://betabeers.com/en/event/decharlas-gdg-castellon-inteligencia-art
ificial-videojuegos-una-relacion-muy-estable-11730/
LAST-MODIFIED:20191018T133144Z
LOCATION:Salón de actos del Centro de Posgrado (Universitat Jaume I\, Cas,
 Castello de la Plana, España
SEQUENCE:0
STATUS:CONFIRMED
SUMMARY:decharlas - GDG Castellón - Inteligencia artificial y videojuegos\
, una relación muy estable
TRANSP:OPAQUE
END:VEVENT
END:VCALENDAR
